BEGIN:VCALENDAR
VERSION:2.0
PRODID:-// - ECPv6.15.20//NONSGML v1.0//EN
CALSCALE:GREGORIAN
METHOD:PUBLISH
X-ORIGINAL-URL:https://joergwenzel.com
X-WR-CALDESC:Veranstaltungen für 
REFRESH-INTERVAL;VALUE=DURATION:PT1H
X-Robots-Tag:noindex
X-PUBLISHED-TTL:PT1H
BEGIN:VTIMEZONE
TZID:Europe/Berlin
BEGIN:DAYLIGHT
TZOFFSETFROM:+0100
TZOFFSETTO:+0200
TZNAME:CEST
DTSTART:20240331T010000
END:DAYLIGHT
BEGIN:STANDARD
TZOFFSETFROM:+0200
TZOFFSETTO:+0100
TZNAME:CET
DTSTART:20241027T010000
END:STANDARD
BEGIN:DAYLIGHT
TZOFFSETFROM:+0100
TZOFFSETTO:+0200
TZNAME:CEST
DTSTART:20250330T010000
END:DAYLIGHT
BEGIN:STANDARD
TZOFFSETFROM:+0200
TZOFFSETTO:+0100
TZNAME:CET
DTSTART:20251026T010000
END:STANDARD
BEGIN:DAYLIGHT
TZOFFSETFROM:+0100
TZOFFSETTO:+0200
TZNAME:CEST
DTSTART:20260329T010000
END:DAYLIGHT
BEGIN:STANDARD
TZOFFSETFROM:+0200
TZOFFSETTO:+0100
TZNAME:CET
DTSTART:20261025T010000
END:STANDARD
END:VTIMEZONE
BEGIN:VEVENT
DTSTART;TZID=Europe/Berlin:20251018T210000
DTEND;TZID=Europe/Berlin:20251019T030000
DTSTAMP:20260422T185938
CREATED:20250926T210316Z
LAST-MODIFIED:20251012T143204Z
UID:1640-1760821200-1760842800@joergwenzel.com
SUMMARY:Dj Jörg on Tour
DESCRIPTION:Tanzen zu den besten nationalen und internationalen Discofox-Beats. \nUm 21 Uhr geht es in der „Royal“ los. \nHeute mit Dj Moussa & Dj Jörg \nWeitere Details unter: www.tanzlokal-nina.com
URL:https://joergwenzel.com/event/dj-joerg-on-tour-17/
LOCATION:Bottrop
ATTACH;FMTTYPE=image/jpeg:https://joergwenzel.com/wp-content/uploads/2025/09/IMG_3353.jpg
END:VEVENT
END:VCALENDAR