BEGIN:VCALENDAR
VERSION:2.0
PRODID:-// - ECPv6.15.20//NONSGML v1.0//EN
CALSCALE:GREGORIAN
METHOD:PUBLISH
X-ORIGINAL-URL:https://joergwenzel.com
X-WR-CALDESC:Veranstaltungen für 
REFRESH-INTERVAL;VALUE=DURATION:PT1H
X-Robots-Tag:noindex
X-PUBLISHED-TTL:PT1H
BEGIN:VTIMEZONE
TZID:Europe/Berlin
BEGIN:DAYLIGHT
TZOFFSETFROM:+0100
TZOFFSETTO:+0200
TZNAME:CEST
DTSTART:20250330T010000
END:DAYLIGHT
BEGIN:STANDARD
TZOFFSETFROM:+0200
TZOFFSETTO:+0100
TZNAME:CET
DTSTART:20251026T010000
END:STANDARD
BEGIN:DAYLIGHT
TZOFFSETFROM:+0100
TZOFFSETTO:+0200
TZNAME:CEST
DTSTART:20260329T010000
END:DAYLIGHT
BEGIN:STANDARD
TZOFFSETFROM:+0200
TZOFFSETTO:+0100
TZNAME:CET
DTSTART:20261025T010000
END:STANDARD
BEGIN:DAYLIGHT
TZOFFSETFROM:+0100
TZOFFSETTO:+0200
TZNAME:CEST
DTSTART:20270328T010000
END:DAYLIGHT
BEGIN:STANDARD
TZOFFSETFROM:+0200
TZOFFSETTO:+0100
TZNAME:CET
DTSTART:20271031T010000
END:STANDARD
END:VTIMEZONE
BEGIN:VEVENT
DTSTART;TZID=Europe/Berlin:20260103T200000
DTEND;TZID=Europe/Berlin:20260104T030000
DTSTAMP:20260422T142321
CREATED:20250901T181001Z
LAST-MODIFIED:20251019T140322Z
UID:1616-1767470400-1767495600@joergwenzel.com
SUMMARY:DJ-Jörg on Tour / Pyramide - Mainz
DESCRIPTION:Zum Jahresstart trifft sich die gesamte Discsofox & WCS-Tanzszene wiedermal in der Pyramide / Mainz \nFreut euch auf viele tolle Workshops und mega Tanzpartys (2.Floors) am Abend. \n  \nWeitere Infos folgen…..
URL:https://joergwenzel.com/event/dj-joerg-on-tour-13/
LOCATION:Pyramide Mainz\, Mainz
ATTACH;FMTTYPE=image/jpeg:https://joergwenzel.com/wp-content/uploads/2025/09/IMG_3441.jpg
END:VEVENT
END:VCALENDAR