BEGIN:VCALENDAR
VERSION:2.0
PRODID:-// - ECPv6.15.20//NONSGML v1.0//EN
CALSCALE:GREGORIAN
METHOD:PUBLISH
X-ORIGINAL-URL:https://joergwenzel.com
X-WR-CALDESC:Veranstaltungen für 
REFRESH-INTERVAL;VALUE=DURATION:PT1H
X-Robots-Tag:noindex
X-PUBLISHED-TTL:PT1H
BEGIN:VTIMEZONE
TZID:Europe/Berlin
BEGIN:DAYLIGHT
TZOFFSETFROM:+0100
TZOFFSETTO:+0200
TZNAME:CEST
DTSTART:20250330T010000
END:DAYLIGHT
BEGIN:STANDARD
TZOFFSETFROM:+0200
TZOFFSETTO:+0100
TZNAME:CET
DTSTART:20251026T010000
END:STANDARD
BEGIN:DAYLIGHT
TZOFFSETFROM:+0100
TZOFFSETTO:+0200
TZNAME:CEST
DTSTART:20260329T010000
END:DAYLIGHT
BEGIN:STANDARD
TZOFFSETFROM:+0200
TZOFFSETTO:+0100
TZNAME:CET
DTSTART:20261025T010000
END:STANDARD
BEGIN:DAYLIGHT
TZOFFSETFROM:+0100
TZOFFSETTO:+0200
TZNAME:CEST
DTSTART:20270328T010000
END:DAYLIGHT
BEGIN:STANDARD
TZOFFSETFROM:+0200
TZOFFSETTO:+0100
TZNAME:CET
DTSTART:20271031T010000
END:STANDARD
END:VTIMEZONE
BEGIN:VEVENT
DTSTART;TZID=Europe/Berlin:20260214T210000
DTEND;TZID=Europe/Berlin:20260315T030000
DTSTAMP:20260420T201419
CREATED:20251210T174509Z
LAST-MODIFIED:20251210T174509Z
UID:1765-1771102800-1773543600@joergwenzel.com
SUMMARY:DJ Jörg on Tour
DESCRIPTION:Tanzen zu den besten nationalen und internationalen Discofox-Beats. \nUm 21 Uhr geht es in der „Royal“ los. \nWeitere Details unter: www.tanzlokal-nina.com
URL:https://joergwenzel.com/event/dj-joerg-on-tour-24/
LOCATION:Bottrop
ATTACH;FMTTYPE=image/jpeg:https://joergwenzel.com/wp-content/uploads/2025/12/IMG_3632.jpg
END:VEVENT
BEGIN:VEVENT
DTSTART;TZID=Europe/Berlin:20260227T210000
DTEND;TZID=Europe/Berlin:20260228T030000
DTSTAMP:20260420T201419
CREATED:20260120T221549Z
LAST-MODIFIED:20260202T204009Z
UID:1853-1772226000-1772247600@joergwenzel.com
SUMMARY:DJ Jörg on Tour / Hitdorfer-Tanzabend
DESCRIPTION:Der „Hitdorfer“ Tanzabend ist zurück..!! \nIncl. Discofox-Workshop\, Doudou’s Rosentanz & Verlosung uvm. \n  \nUm 21 Uhr geht es für euch los! \nPurer Discofox\, Schlager und aktuelle Tanz-Hits erwarten euch. \n  \nEintritt = VVK 12\,-€ / AK 15\,-€ \n 
URL:https://joergwenzel.com/event/dj-joerg-on-tour-hitdorfer-tanzabend/
LOCATION:Stadthalle Hitdorf\, Hitdorferstrasse 113\, Leverkusen\, 51371
ATTACH;FMTTYPE=image/jpeg:https://joergwenzel.com/wp-content/uploads/2026/01/d3d73efa-5054-47d7-a6a5-5d58de3552d7.jpg
END:VEVENT
END:VCALENDAR