BEGIN:VCALENDAR
VERSION:2.0
PRODID:-// - ECPv6.15.20//NONSGML v1.0//EN
CALSCALE:GREGORIAN
METHOD:PUBLISH
X-ORIGINAL-URL:https://joergwenzel.com
X-WR-CALDESC:Veranstaltungen für 
REFRESH-INTERVAL;VALUE=DURATION:PT1H
X-Robots-Tag:noindex
X-PUBLISHED-TTL:PT1H
BEGIN:VTIMEZONE
TZID:Europe/Berlin
BEGIN:DAYLIGHT
TZOFFSETFROM:+0100
TZOFFSETTO:+0200
TZNAME:CEST
DTSTART:20250330T010000
END:DAYLIGHT
BEGIN:STANDARD
TZOFFSETFROM:+0200
TZOFFSETTO:+0100
TZNAME:CET
DTSTART:20251026T010000
END:STANDARD
BEGIN:DAYLIGHT
TZOFFSETFROM:+0100
TZOFFSETTO:+0200
TZNAME:CEST
DTSTART:20260329T010000
END:DAYLIGHT
BEGIN:STANDARD
TZOFFSETFROM:+0200
TZOFFSETTO:+0100
TZNAME:CET
DTSTART:20261025T010000
END:STANDARD
BEGIN:DAYLIGHT
TZOFFSETFROM:+0100
TZOFFSETTO:+0200
TZNAME:CEST
DTSTART:20270328T010000
END:DAYLIGHT
BEGIN:STANDARD
TZOFFSETFROM:+0200
TZOFFSETTO:+0100
TZNAME:CET
DTSTART:20271031T010000
END:STANDARD
END:VTIMEZONE
BEGIN:VEVENT
DTSTART;TZID=Europe/Berlin:20260411T200000
DTEND;TZID=Europe/Berlin:20260412T030000
DTSTAMP:20260420T171149
CREATED:20251221T122204Z
LAST-MODIFIED:20260303T215638Z
UID:1793-1775937600-1775962800@joergwenzel.com
SUMMARY:DJ Jörg on Tour / Pyramide Mainz
DESCRIPTION:Das Tanz-Highlite in der Pyramide Mainz … !! \n  \nHier treffen sich Discofox\, DiscoChart & WCS Tänzer*innen aus ganz Deutschland um in einer atemberaubenden Kulisse\, auf zwei Ebenen zu angesagtesten internationalen Beats (schlagerfrei)  zu tanzen. \nArea Center = Slow \nClub = Quick \n  \nWir freuen uns auf euch …!!
URL:https://joergwenzel.com/event/dj-joerg-on-tour-pyramide-mainz/
LOCATION:Pyramide Mainz\, Mainz
ATTACH;FMTTYPE=image/jpeg:https://joergwenzel.com/wp-content/uploads/2026/03/IMG_4071.jpg
END:VEVENT
END:VCALENDAR