BEGIN:VCALENDAR
VERSION:2.0
PRODID:-// - ECPv6.15.20//NONSGML v1.0//EN
CALSCALE:GREGORIAN
METHOD:PUBLISH
X-ORIGINAL-URL:https://joergwenzel.com
X-WR-CALDESC:Veranstaltungen für 
REFRESH-INTERVAL;VALUE=DURATION:PT1H
X-Robots-Tag:noindex
X-PUBLISHED-TTL:PT1H
BEGIN:VTIMEZONE
TZID:Europe/Berlin
BEGIN:DAYLIGHT
TZOFFSETFROM:+0100
TZOFFSETTO:+0200
TZNAME:CEST
DTSTART:20250330T010000
END:DAYLIGHT
BEGIN:STANDARD
TZOFFSETFROM:+0200
TZOFFSETTO:+0100
TZNAME:CET
DTSTART:20251026T010000
END:STANDARD
BEGIN:DAYLIGHT
TZOFFSETFROM:+0100
TZOFFSETTO:+0200
TZNAME:CEST
DTSTART:20260329T010000
END:DAYLIGHT
BEGIN:STANDARD
TZOFFSETFROM:+0200
TZOFFSETTO:+0100
TZNAME:CET
DTSTART:20261025T010000
END:STANDARD
BEGIN:DAYLIGHT
TZOFFSETFROM:+0100
TZOFFSETTO:+0200
TZNAME:CEST
DTSTART:20270328T010000
END:DAYLIGHT
BEGIN:STANDARD
TZOFFSETFROM:+0200
TZOFFSETTO:+0100
TZNAME:CET
DTSTART:20271031T010000
END:STANDARD
END:VTIMEZONE
BEGIN:VEVENT
DTSTART;TZID=Europe/Berlin:20260417T200000
DTEND;TZID=Europe/Berlin:20260418T030000
DTSTAMP:20260420T181457
CREATED:20260312T213349Z
LAST-MODIFIED:20260312T213349Z
UID:1939-1776456000-1776481200@joergwenzel.com
SUMMARY:Dj Jörg on Tour   ++Save the Date++   Doudou's Rosentanz 2.0
DESCRIPTION:Nach dem großen Erfolg im Februar diesen Jahres\, wiederholen wir am Freitag den 17.04. Doudou´s Rosentanz in der Stadthalle Hitdorf…! \nDiesmal starten wir schon eine Stunde früher und neben dem tollen Rosentanz\, warten wieder ganz viele Überraschungen auf euch. \nMusikalisch ist alles dabei: Schlager\, die angesagtesten Tanzbeats und Klassiker\, sowie „Slow“ und der Freestyle fehlt natürlich auch nicht….. \nAlso verabreden und ab nach HItdorf…! \nDas gesamte Team freut sich auf euch.
URL:https://joergwenzel.com/event/dj-joerg-on-tour-save-the-date-doudous-rosentanz-2-0/
LOCATION:Stadthalle Hitdorf\, Hitdorferstrasse 113\, Leverkusen\, 51371
ATTACH;FMTTYPE=image/jpeg:https://joergwenzel.com/wp-content/uploads/2026/03/IMG_4115.jpg
END:VEVENT
END:VCALENDAR