BEGIN:VCALENDAR
VERSION:2.0
PRODID:-// - ECPv6.15.20//NONSGML v1.0//EN
CALSCALE:GREGORIAN
METHOD:PUBLISH
X-ORIGINAL-URL:https://joergwenzel.com
X-WR-CALDESC:Veranstaltungen für 
REFRESH-INTERVAL;VALUE=DURATION:PT1H
X-Robots-Tag:noindex
X-PUBLISHED-TTL:PT1H
BEGIN:VTIMEZONE
TZID:Europe/Berlin
BEGIN:DAYLIGHT
TZOFFSETFROM:+0100
TZOFFSETTO:+0200
TZNAME:CEST
DTSTART:20250330T010000
END:DAYLIGHT
BEGIN:STANDARD
TZOFFSETFROM:+0200
TZOFFSETTO:+0100
TZNAME:CET
DTSTART:20251026T010000
END:STANDARD
BEGIN:DAYLIGHT
TZOFFSETFROM:+0100
TZOFFSETTO:+0200
TZNAME:CEST
DTSTART:20260329T010000
END:DAYLIGHT
BEGIN:STANDARD
TZOFFSETFROM:+0200
TZOFFSETTO:+0100
TZNAME:CET
DTSTART:20261025T010000
END:STANDARD
BEGIN:DAYLIGHT
TZOFFSETFROM:+0100
TZOFFSETTO:+0200
TZNAME:CEST
DTSTART:20270328T010000
END:DAYLIGHT
BEGIN:STANDARD
TZOFFSETFROM:+0200
TZOFFSETTO:+0100
TZNAME:CET
DTSTART:20271031T010000
END:STANDARD
END:VTIMEZONE
BEGIN:VEVENT
DTSTART;VALUE=DATE:20260509
DTEND;VALUE=DATE:20260515
DTSTAMP:20260420T184409
CREATED:20250525T110455Z
LAST-MODIFIED:20251012T144547Z
UID:1525-1778284800-1778803199@joergwenzel.com
SUMMARY:AIDA - Foxcruise 2026 "Schweden"
DESCRIPTION:Vom 09.-14. Mai 2026 tanzen wir auf dem Meer…. \n„Discofox & DiscoChart“ \nMega Workshops und tolle Tanzpartys erwarten euch….
URL:https://joergwenzel.com/event/aida-foxcruise-2026-schweden/
LOCATION:Auf See
ATTACH;FMTTYPE=image/png:https://joergwenzel.com/wp-content/uploads/2025/05/Bildschirmfoto-2025-05-13-um-21.46.11.png
ORGANIZER;CN="AIDA - Foxcruise":MAILTO:www.foxcruise.de
END:VEVENT
END:VCALENDAR