BEGIN:VCALENDAR
VERSION:2.0
PRODID:-// - ECPv6.15.20//NONSGML v1.0//EN
CALSCALE:GREGORIAN
METHOD:PUBLISH
X-ORIGINAL-URL:https://joergwenzel.com
X-WR-CALDESC:Veranstaltungen für 
REFRESH-INTERVAL;VALUE=DURATION:PT1H
X-Robots-Tag:noindex
X-PUBLISHED-TTL:PT1H
BEGIN:VTIMEZONE
TZID:Europe/Berlin
BEGIN:DAYLIGHT
TZOFFSETFROM:+0100
TZOFFSETTO:+0200
TZNAME:CEST
DTSTART:20250330T010000
END:DAYLIGHT
BEGIN:STANDARD
TZOFFSETFROM:+0200
TZOFFSETTO:+0100
TZNAME:CET
DTSTART:20251026T010000
END:STANDARD
BEGIN:DAYLIGHT
TZOFFSETFROM:+0100
TZOFFSETTO:+0200
TZNAME:CEST
DTSTART:20260329T010000
END:DAYLIGHT
BEGIN:STANDARD
TZOFFSETFROM:+0200
TZOFFSETTO:+0100
TZNAME:CET
DTSTART:20261025T010000
END:STANDARD
BEGIN:DAYLIGHT
TZOFFSETFROM:+0100
TZOFFSETTO:+0200
TZNAME:CEST
DTSTART:20270328T010000
END:DAYLIGHT
BEGIN:STANDARD
TZOFFSETFROM:+0200
TZOFFSETTO:+0100
TZNAME:CET
DTSTART:20271031T010000
END:STANDARD
END:VTIMEZONE
BEGIN:VEVENT
DTSTART;TZID=Europe/Berlin:20260620T210000
DTEND;TZID=Europe/Berlin:20260621T030000
DTSTAMP:20260420T201741
CREATED:20260207T235926Z
LAST-MODIFIED:20260207T235926Z
UID:1884-1781989200-1782010800@joergwenzel.com
SUMMARY:DJ Jörg on Tour
DESCRIPTION:Tanzen zu den besten nationalen und internationalen Discofox-Beats. \nUm 21 Uhr geht es in der „Royal“ los. \nWeitere Details unter: www.tanzlokal-nina.com
URL:https://joergwenzel.com/event/dj-joerg-on-tour-3/
LOCATION:Bottrop
ATTACH;FMTTYPE=image/heic:https://joergwenzel.com/wp-content/uploads/2022/07/IMG_7324.heic
END:VEVENT
END:VCALENDAR