BEGIN:VCALENDAR
VERSION:2.0
PRODID:-// - ECPv6.15.20//NONSGML v1.0//EN
CALSCALE:GREGORIAN
METHOD:PUBLISH
X-ORIGINAL-URL:https://joergwenzel.com
X-WR-CALDESC:Veranstaltungen für 
REFRESH-INTERVAL;VALUE=DURATION:PT1H
X-Robots-Tag:noindex
X-PUBLISHED-TTL:PT1H
BEGIN:VTIMEZONE
TZID:Europe/Berlin
BEGIN:DAYLIGHT
TZOFFSETFROM:+0100
TZOFFSETTO:+0200
TZNAME:CEST
DTSTART:20250330T010000
END:DAYLIGHT
BEGIN:STANDARD
TZOFFSETFROM:+0200
TZOFFSETTO:+0100
TZNAME:CET
DTSTART:20251026T010000
END:STANDARD
BEGIN:DAYLIGHT
TZOFFSETFROM:+0100
TZOFFSETTO:+0200
TZNAME:CEST
DTSTART:20260329T010000
END:DAYLIGHT
BEGIN:STANDARD
TZOFFSETFROM:+0200
TZOFFSETTO:+0100
TZNAME:CET
DTSTART:20261025T010000
END:STANDARD
BEGIN:DAYLIGHT
TZOFFSETFROM:+0100
TZOFFSETTO:+0200
TZNAME:CEST
DTSTART:20270328T010000
END:DAYLIGHT
BEGIN:STANDARD
TZOFFSETFROM:+0200
TZOFFSETTO:+0100
TZNAME:CET
DTSTART:20271031T010000
END:STANDARD
END:VTIMEZONE
BEGIN:VEVENT
DTSTART;TZID=Europe/Berlin:20260424T183000
DTEND;TZID=Europe/Berlin:20260424T220000
DTSTAMP:20260420T153424
CREATED:20251220T143253Z
LAST-MODIFIED:20260312T211411Z
UID:1778-1777055400-1777068000@joergwenzel.com
SUMMARY:DiscoChart Workshop
DESCRIPTION:18:30 – 20:00 Anfänger & Beginner \n20:00 – 22:00 Fortgeschrittene \n  \nTerminverschiebung vom 17.4. auf den 24.4.
URL:https://joergwenzel.com/event/discochart-workshop-73/
LOCATION:Solingen\, Kyllmannweg 1
ATTACH;FMTTYPE=image/png:https://joergwenzel.com/wp-content/uploads/2022/03/TC-Blau-Gold.png
END:VEVENT
BEGIN:VEVENT
DTSTART;TZID=Europe/Berlin:20260425T210000
DTEND;TZID=Europe/Berlin:20260426T030000
DTSTAMP:20260420T153424
CREATED:20260207T235227Z
LAST-MODIFIED:20260207T235227Z
UID:1880-1777150800-1777172400@joergwenzel.com
SUMMARY:DJ Jörg on Tour
DESCRIPTION:Tanzen zu den besten nationalen und internationalen Discofox-Beats. \nUm 21 Uhr geht es in der „Royal“ los. \nWeitere Details unter: www.tanzlokal-nina.com
URL:https://joergwenzel.com/event/dj-joerg-on-tour/
LOCATION:Bottrop
ATTACH;FMTTYPE=image/jpeg:https://joergwenzel.com/wp-content/uploads/2024/04/IMG_0567.jpg
END:VEVENT
BEGIN:VEVENT
DTSTART;TZID=Europe/Berlin:20260428T190000
DTEND;TZID=Europe/Berlin:20260428T210000
DTSTAMP:20260420T153424
CREATED:20260301T172126Z
LAST-MODIFIED:20260301T172153Z
UID:1915-1777402800-1777410000@joergwenzel.com
SUMMARY:DiscoChart Workshop
DESCRIPTION:19:00 – 20:00 Anfänger \n20:00 – 21:00 Fortgeschrittene
URL:https://joergwenzel.com/event/discochart-workshop-4/
LOCATION:Wuppertal\, Lüntenbecker Weg 42-44
ATTACH;FMTTYPE=image/jpeg:https://joergwenzel.com/wp-content/uploads/2022/03/Asfahl-e1657209209888.jpeg
END:VEVENT
END:VCALENDAR